Package: ORFik Version: 1.27.1 Command: /home/biocbuild/bbs-3.21-bioc/R/bin/R CMD INSTALL ORFik StartedAt: 2025-02-04 15:37:17 -0500 (Tue, 04 Feb 2025) EndedAt: 2025-02-04 15:38:31 -0500 (Tue, 04 Feb 2025) EllapsedTime: 73.2 seconds RetCode: 0 Status: OK