Package: ORFik Version: 1.27.1 Command: rm -rf ORFik.buildbin-libdir && mkdir ORFik.buildbin-libdir && E:\biocbuild\bbs-3.21-bioc\R\bin\R.exe CMD INSTALL --build --library=ORFik.buildbin-libdir ORFik_1.27.1.tar.gz StartedAt: 2025-02-05 08:31:48 -0500 (Wed, 05 Feb 2025) EndedAt: 2025-02-05 08:34:49 -0500 (Wed, 05 Feb 2025) EllapsedTime: 181.0 seconds RetCode: 0 Status: OK PackageFile: ORFik_1.27.1.zip PackageFileSize: 5.175 MiB