Package: OTUbase Version: 1.57.0 Command: /Library/Frameworks/R.framework/Resources/bin/R CMD INSTALL OTUbase StartedAt: 2025-02-09 15:12:27 -0500 (Sun, 09 Feb 2025) EndedAt: 2025-02-09 15:12:40 -0500 (Sun, 09 Feb 2025) EllapsedTime: 12.8 seconds RetCode: 0 Status: OK