Package: OTUbase Version: 1.57.0 Command: /home/biocbuild/R/R/bin/R CMD build --keep-empty-dirs --no-resave-data OTUbase StartedAt: 2025-01-29 01:05:47 -0000 (Wed, 29 Jan 2025) EndedAt: 2025-01-29 01:07:16 -0000 (Wed, 29 Jan 2025) EllapsedTime: 89.2 seconds RetCode: 0 Status: OK PackageFile: OTUbase_1.57.0.tar.gz PackageFileSize: 175.8 KiB