Package: OTUbase Version: 1.57.0 Command: /home/biocbuild/R/R/bin/R CMD check --install=check:OTUbase.install-out.txt --library=/home/biocbuild/R/R/site-library --no-vignettes --timings OTUbase_1.57.0.tar.gz StartedAt: 2025-01-28 13:37:44 -0000 (Tue, 28 Jan 2025) EndedAt: 2025-01-28 13:45:51 -0000 (Tue, 28 Jan 2025) EllapsedTime: 487.0 seconds RetCode: 0 Status: OK CheckDir: OTUbase.Rcheck Warnings: 0