Package: OTUbase Version: 1.57.0 Command: rm -rf OTUbase.buildbin-libdir && mkdir OTUbase.buildbin-libdir && /Users/biocbuild/BBS/utils/build-universal.sh OTUbase_1.57.0.tar.gz /Library/Frameworks/R.framework/Resources/bin/R OTUbase.buildbin-libdir StartedAt: 2025-02-10 01:07:14 -0500 (Mon, 10 Feb 2025) EndedAt: 2025-02-10 01:08:00 -0500 (Mon, 10 Feb 2025) EllapsedTime: 46.1 seconds RetCode: 0 Status: OK PackageFile: OTUbase_1.57.0.tgz PackageFileSize: 562.7 KiB