Package: OTUbase Version: 1.57.0 Command: /Library/Frameworks/R.framework/Resources/bin/R CMD build --keep-empty-dirs --no-resave-data OTUbase StartedAt: 2025-02-09 17:50:14 -0500 (Sun, 09 Feb 2025) EndedAt: 2025-02-09 17:51:25 -0500 (Sun, 09 Feb 2025) EllapsedTime: 71.6 seconds RetCode: 0 Status: OK PackageFile: OTUbase_1.57.0.tar.gz PackageFileSize: 179.3 KiB