Package: OTUbase Version: 1.57.0 Command: /Library/Frameworks/R.framework/Resources/bin/R CMD check --install=check:OTUbase.install-out.txt --library=/Library/Frameworks/R.framework/Resources/library --no-vignettes --timings OTUbase_1.57.0.tar.gz StartedAt: 2025-02-09 22:29:29 -0500 (Sun, 09 Feb 2025) EndedAt: 2025-02-09 22:35:06 -0500 (Sun, 09 Feb 2025) EllapsedTime: 336.4 seconds RetCode: 0 Status: OK CheckDir: OTUbase.Rcheck Warnings: 0