Package: OTUbase Version: 1.57.0 Command: /home/biocbuild/bbs-3.21-bioc/R/bin/R CMD check --install=check:OTUbase.install-out.txt --library=/home/biocbuild/bbs-3.21-bioc/R/site-library --timings OTUbase_1.57.0.tar.gz StartedAt: 2025-02-10 01:01:10 -0500 (Mon, 10 Feb 2025) EndedAt: 2025-02-10 01:07:43 -0500 (Mon, 10 Feb 2025) EllapsedTime: 392.7 seconds RetCode: 0 Status: OK CheckDir: OTUbase.Rcheck Warnings: 0