Package: OTUbase Version: 1.57.0 Command: rm -rf OTUbase.buildbin-libdir && mkdir OTUbase.buildbin-libdir && E:\biocbuild\bbs-3.21-bioc\R\bin\R.exe CMD INSTALL --build --library=OTUbase.buildbin-libdir OTUbase_1.57.0.tar.gz StartedAt: 2025-02-10 08:20:26 -0500 (Mon, 10 Feb 2025) EndedAt: 2025-02-10 08:21:21 -0500 (Mon, 10 Feb 2025) EllapsedTime: 55.6 seconds RetCode: 0 Status: OK PackageFile: OTUbase_1.57.0.zip PackageFileSize: 560.9 KiB