Package: OUTRIDER Version: 1.25.0 Maintainer: Christian Mertes MaintainerEmail: mertes at in.tum.de git_url: https://git.bioconductor.org/packages/OUTRIDER git_branch: devel git_last_commit: e21b7d6 git_last_commit_date: 2024-10-29 10:29:54 -0500 (Tue, 29 Oct 2024)