Package: OUTRIDER Version: 1.25.0 Command: rm -rf OUTRIDER.buildbin-libdir && mkdir OUTRIDER.buildbin-libdir && /Users/biocbuild/BBS/utils/build-universal.sh OUTRIDER_1.25.0.tar.gz /Library/Frameworks/R.framework/Resources/bin/R OUTRIDER.buildbin-libdir StartedAt: 2025-02-09 22:24:31 -0500 (Sun, 09 Feb 2025) EndedAt: 2025-02-09 22:24:54 -0500 (Sun, 09 Feb 2025) EllapsedTime: 22.5 seconds RetCode: 0 Status: OK PackageFile: OUTRIDER_1.25.0.tgz PackageFileSize: 2.575 MiB