Package: OUTRIDER Version: 1.25.0 Command: /Library/Frameworks/R.framework/Resources/bin/R CMD INSTALL OUTRIDER StartedAt: 2025-02-09 15:24:30 -0500 (Sun, 09 Feb 2025) EndedAt: 2025-02-09 15:24:52 -0500 (Sun, 09 Feb 2025) EllapsedTime: 21.1 seconds RetCode: 0 Status: OK