Package: OUTRIDER Version: 1.25.0 Command: /home/biocbuild/R/R/bin/R CMD build --keep-empty-dirs --no-resave-data OUTRIDER StartedAt: 2025-01-29 01:05:59 -0000 (Wed, 29 Jan 2025) EndedAt: 2025-01-29 01:14:41 -0000 (Wed, 29 Jan 2025) EllapsedTime: 522.7 seconds RetCode: 0 Status: OK PackageFile: OUTRIDER_1.25.0.tar.gz PackageFileSize: 1.951 MiB