Package: OUTRIDER Version: 1.25.0 Command: /Library/Frameworks/R.framework/Resources/bin/R CMD check --install=check:OUTRIDER.install-out.txt --library=/Library/Frameworks/R.framework/Resources/library --no-vignettes --timings OUTRIDER_1.25.0.tar.gz StartedAt: 2025-02-09 22:29:43 -0500 (Sun, 09 Feb 2025) EndedAt: 2025-02-09 22:39:56 -0500 (Sun, 09 Feb 2025) EllapsedTime: 612.8 seconds RetCode: 0 Status: OK CheckDir: OUTRIDER.Rcheck Warnings: 0