Package: OUTRIDER Version: 1.25.0 Command: /home/biocbuild/bbs-3.21-bioc/R/bin/R CMD build --keep-empty-dirs --no-resave-data OUTRIDER StartedAt: 2025-02-09 18:31:43 -0500 (Sun, 09 Feb 2025) EndedAt: 2025-02-09 18:39:18 -0500 (Sun, 09 Feb 2025) EllapsedTime: 454.7 seconds RetCode: 0 Status: OK PackageFile: OUTRIDER_1.25.0.tar.gz PackageFileSize: 2.602 MiB