Package: OVESEG Version: 1.23.0 Command: /Library/Frameworks/R.framework/Resources/bin/R CMD build --keep-empty-dirs --no-resave-data OVESEG StartedAt: 2025-02-09 17:11:23 -0500 (Sun, 09 Feb 2025) EndedAt: 2025-02-09 17:13:24 -0500 (Sun, 09 Feb 2025) EllapsedTime: 120.4 seconds RetCode: 0 Status: OK PackageFile: OVESEG_1.23.0.tar.gz PackageFileSize: 796.8 KiB