Package: OVESEG Version: 1.23.0 Command: rm -rf OVESEG.buildbin-libdir && mkdir OVESEG.buildbin-libdir && /Users/biocbuild/BBS/utils/build-universal.sh OVESEG_1.23.0.tar.gz /Library/Frameworks/R.framework/Resources/bin/R OVESEG.buildbin-libdir StartedAt: 2025-02-10 01:07:18 -0500 (Mon, 10 Feb 2025) EndedAt: 2025-02-10 01:07:42 -0500 (Mon, 10 Feb 2025) EllapsedTime: 24.2 seconds RetCode: 0 Status: OK PackageFile: OVESEG_1.23.0.tgz PackageFileSize: 876.2 KiB