Package: OVESEG Version: 1.23.0 Command: /Library/Frameworks/R.framework/Resources/bin/R CMD build --keep-empty-dirs --no-resave-data OVESEG StartedAt: 2025-02-09 17:50:39 -0500 (Sun, 09 Feb 2025) EndedAt: 2025-02-09 17:58:14 -0500 (Sun, 09 Feb 2025) EllapsedTime: 455.3 seconds RetCode: 0 Status: OK PackageFile: OVESEG_1.23.0.tar.gz PackageFileSize: 796.6 KiB