Package: OVESEG Version: 1.23.0 Command: /Library/Frameworks/R.framework/Resources/bin/R CMD check --install=check:OVESEG.install-out.txt --library=/Library/Frameworks/R.framework/Resources/library --no-vignettes --timings OVESEG_1.23.0.tar.gz StartedAt: 2025-02-09 22:29:56 -0500 (Sun, 09 Feb 2025) EndedAt: 2025-02-09 22:32:06 -0500 (Sun, 09 Feb 2025) EllapsedTime: 130.4 seconds RetCode: 0 Status: OK CheckDir: OVESEG.Rcheck Warnings: 0