Package: OVESEG Version: 1.23.0 Command: /home/biocbuild/bbs-3.21-bioc/R/bin/R CMD build --keep-empty-dirs --no-resave-data OVESEG StartedAt: 2025-02-12 18:27:57 -0500 (Wed, 12 Feb 2025) EndedAt: 2025-02-12 18:34:59 -0500 (Wed, 12 Feb 2025) EllapsedTime: 421.7 seconds RetCode: 0 Status: OK PackageFile: OVESEG_1.23.0.tar.gz PackageFileSize: 798.3 KiB