Package: OVESEG Version: 1.23.0 Command: rm -rf OVESEG.buildbin-libdir && mkdir OVESEG.buildbin-libdir && E:\biocbuild\bbs-3.21-bioc\R\bin\R.exe CMD INSTALL --build --library=OVESEG.buildbin-libdir OVESEG_1.23.0.tar.gz StartedAt: 2025-02-10 08:20:32 -0500 (Mon, 10 Feb 2025) EndedAt: 2025-02-10 08:20:56 -0500 (Mon, 10 Feb 2025) EllapsedTime: 23.1 seconds RetCode: 0 Status: OK PackageFile: OVESEG_1.23.0.zip PackageFileSize: 1.131 MiB