Package: OmicsMLRepoR Version: 1.1.1 Command: /Library/Frameworks/R.framework/Resources/bin/R CMD build --keep-empty-dirs --no-resave-data OmicsMLRepoR StartedAt: 2025-02-03 17:45:23 -0500 (Mon, 03 Feb 2025) EndedAt: 2025-02-03 17:46:11 -0500 (Mon, 03 Feb 2025) EllapsedTime: 47.6 seconds RetCode: 1 Status: ERROR PackageFile: None PackageFileSize: NA