Package: OmicsMLRepoR Version: 1.1.1 Command: /home/biocbuild/R/R/bin/R CMD build --keep-empty-dirs --no-resave-data OmicsMLRepoR StartedAt: 2025-01-29 00:57:22 -0000 (Wed, 29 Jan 2025) EndedAt: 2025-01-29 01:00:42 -0000 (Wed, 29 Jan 2025) EllapsedTime: 200.3 seconds RetCode: 1 Status: ERROR PackageFile: None PackageFileSize: NA