Package: OmicsMLRepoR Version: 1.1.1 Command: /home/biocbuild/R/R/bin/R CMD INSTALL OmicsMLRepoR StartedAt: 2025-01-29 20:04:46 -0000 (Wed, 29 Jan 2025) EndedAt: 2025-01-29 20:04:55 -0000 (Wed, 29 Jan 2025) EllapsedTime: 9.7 seconds RetCode: 0 Status: OK