Package: OmicsMLRepoR Version: 1.1.1 Command: /Library/Frameworks/R.framework/Resources/bin/R CMD INSTALL OmicsMLRepoR StartedAt: 2025-02-03 15:28:56 -0500 (Mon, 03 Feb 2025) EndedAt: 2025-02-03 15:29:07 -0500 (Mon, 03 Feb 2025) EllapsedTime: 11.2 seconds RetCode: 0 Status: OK