Package: OmicsMLRepoR Version: 1.1.2 Command: /home/biocbuild/bbs-3.21-bioc/R/bin/R CMD check --install=check:OmicsMLRepoR.install-out.txt --library=/home/biocbuild/bbs-3.21-bioc/R/site-library --timings OmicsMLRepoR_1.1.2.tar.gz StartedAt: 2025-02-05 01:02:08 -0500 (Wed, 05 Feb 2025) EndedAt: 2025-02-05 01:05:08 -0500 (Wed, 05 Feb 2025) EllapsedTime: 179.3 seconds RetCode: 0 Status: OK CheckDir: OmicsMLRepoR.Rcheck Warnings: 0