Package: OmicsMLRepoR Version: 1.1.0 Command: rm -rf OmicsMLRepoR.buildbin-libdir && mkdir OmicsMLRepoR.buildbin-libdir && E:\biocbuild\bbs-3.21-bioc\R\bin\R.exe CMD INSTALL --build --library=OmicsMLRepoR.buildbin-libdir OmicsMLRepoR_1.1.0.tar.gz StartedAt: 2024-11-19 07:31:16 -0500 (Tue, 19 Nov 2024) EndedAt: 2024-11-19 07:31:49 -0500 (Tue, 19 Nov 2024) EllapsedTime: 33.6 seconds RetCode: 0 Status: OK PackageFile: OmicsMLRepoR_1.1.0.zip PackageFileSize: 312.8 KiB