Package: OmicsMLRepoR Version: 1.1.2 Command: chmod a+r OmicsMLRepoR -R && E:\biocbuild\bbs-3.21-bioc\R\bin\R.exe CMD build --keep-empty-dirs --no-resave-data OmicsMLRepoR StartedAt: 2025-02-09 20:24:39 -0500 (Sun, 09 Feb 2025) EndedAt: 2025-02-09 20:26:45 -0500 (Sun, 09 Feb 2025) EllapsedTime: 126.6 seconds RetCode: 0 Status: OK PackageFile: OmicsMLRepoR_1.1.2.tar.gz PackageFileSize: 427.9 KiB