Package: OmicsMLRepoR Version: 1.1.1 Command: E:\biocbuild\bbs-3.21-bioc\R\bin\R.exe CMD INSTALL OmicsMLRepoR StartedAt: 2025-02-03 15:48:12 -0500 (Mon, 03 Feb 2025) EndedAt: 2025-02-03 15:48:35 -0500 (Mon, 03 Feb 2025) EllapsedTime: 22.4 seconds RetCode: 0 Status: OK