Package: Omixer Version: 1.17.0 Command: /home/biocbuild/bbs-3.21-bioc/R/bin/R CMD build --keep-empty-dirs --no-resave-data Omixer StartedAt: 2025-02-12 18:24:42 -0500 (Wed, 12 Feb 2025) EndedAt: 2025-02-12 18:26:03 -0500 (Wed, 12 Feb 2025) EllapsedTime: 81.1 seconds RetCode: 0 Status: OK PackageFile: Omixer_1.17.0.tar.gz PackageFileSize: 1.43 MiB