Package: OncoScore Version: 1.35.0 Command: /Library/Frameworks/R.framework/Resources/bin/R CMD build --keep-empty-dirs --no-resave-data OncoScore StartedAt: 2025-02-09 17:48:28 -0500 (Sun, 09 Feb 2025) EndedAt: 2025-02-09 17:49:27 -0500 (Sun, 09 Feb 2025) EllapsedTime: 58.2 seconds RetCode: 0 Status: OK PackageFile: OncoScore_1.35.0.tar.gz PackageFileSize: 916.6 KiB