Package: OncoScore Version: 1.35.0 Command: /home/biocbuild/bbs-3.21-bioc/R/bin/R CMD build --keep-empty-dirs --no-resave-data OncoScore StartedAt: 2025-02-04 18:27:28 -0500 (Tue, 04 Feb 2025) EndedAt: 2025-02-04 18:28:21 -0500 (Tue, 04 Feb 2025) EllapsedTime: 53.1 seconds RetCode: 0 Status: OK PackageFile: OncoScore_1.35.0.tar.gz PackageFileSize: 908.9 KiB