Package: OncoScore Version: 1.35.0 Command: /home/biocbuild/bbs-3.21-bioc/R/bin/R CMD check --install=check:OncoScore.install-out.txt --library=/home/biocbuild/bbs-3.21-bioc/R/site-library --timings OncoScore_1.35.0.tar.gz StartedAt: 2025-02-10 00:56:12 -0500 (Mon, 10 Feb 2025) EndedAt: 2025-02-10 00:58:34 -0500 (Mon, 10 Feb 2025) EllapsedTime: 142.2 seconds RetCode: 0 Status: OK CheckDir: OncoScore.Rcheck Warnings: 0