Package: OncoScore Version: 1.35.0 Command: rm -rf OncoScore.buildbin-libdir && mkdir OncoScore.buildbin-libdir && E:\biocbuild\bbs-3.21-bioc\R\bin\R.exe CMD INSTALL --build --library=OncoScore.buildbin-libdir OncoScore_1.35.0.tar.gz StartedAt: 2025-02-13 08:29:35 -0500 (Thu, 13 Feb 2025) EndedAt: 2025-02-13 08:29:59 -0500 (Thu, 13 Feb 2025) EllapsedTime: 24.7 seconds RetCode: 0 Status: OK PackageFile: OncoScore_1.35.0.zip PackageFileSize: 713.9 KiB