Package: OncoSimulR Version: 4.9.0 Command: /home/biocbuild/R/R/bin/R CMD INSTALL OncoSimulR StartedAt: 2025-01-29 20:16:55 -0000 (Wed, 29 Jan 2025) EndedAt: 2025-01-29 20:21:02 -0000 (Wed, 29 Jan 2025) EllapsedTime: 246.8 seconds RetCode: 0 Status: OK