Package: OncoSimulR Version: 4.9.0 Command: rm -rf OncoSimulR.buildbin-libdir && mkdir OncoSimulR.buildbin-libdir && /Users/biocbuild/BBS/utils/build-universal.sh OncoSimulR_4.9.0.tar.gz /Library/Frameworks/R.framework/Resources/bin/R OncoSimulR.buildbin-libdir StartedAt: 2025-02-10 01:06:48 -0500 (Mon, 10 Feb 2025) EndedAt: 2025-02-10 01:09:38 -0500 (Mon, 10 Feb 2025) EllapsedTime: 169.6 seconds RetCode: 0 Status: OK PackageFile: OncoSimulR_4.9.0.tgz PackageFileSize: 9.519 MiB