Package: OncoSimulR Version: 4.9.0 Command: /Library/Frameworks/R.framework/Resources/bin/R CMD build --keep-empty-dirs --no-resave-data OncoSimulR StartedAt: 2025-02-03 17:46:23 -0500 (Mon, 03 Feb 2025) EndedAt: 2025-02-03 17:54:21 -0500 (Mon, 03 Feb 2025) EllapsedTime: 478.2 seconds RetCode: 0 Status: OK PackageFile: OncoSimulR_4.9.0.tar.gz PackageFileSize: 9.13 MiB