Package: OncoSimulR Version: 4.9.0 Command: /Library/Frameworks/R.framework/Resources/bin/R CMD check --install=check:OncoSimulR.install-out.txt --library=/Library/Frameworks/R.framework/Resources/library --no-vignettes --timings OncoSimulR_4.9.0.tar.gz StartedAt: 2025-02-09 22:26:39 -0500 (Sun, 09 Feb 2025) EndedAt: 2025-02-09 22:33:38 -0500 (Sun, 09 Feb 2025) EllapsedTime: 418.7 seconds RetCode: 0 Status: OK CheckDir: OncoSimulR.Rcheck Warnings: 0