Package: OncoSimulR Version: 4.9.0 Command: /Library/Frameworks/R.framework/Resources/bin/R CMD INSTALL OncoSimulR StartedAt: 2025-02-03 15:36:22 -0500 (Mon, 03 Feb 2025) EndedAt: 2025-02-03 15:38:57 -0500 (Mon, 03 Feb 2025) EllapsedTime: 154.9 seconds RetCode: 0 Status: OK