Package: OncoSimulR Version: 4.9.0 Command: /home/biocbuild/bbs-3.21-bioc/R/bin/R CMD build --keep-empty-dirs --no-resave-data OncoSimulR StartedAt: 2025-02-04 18:27:35 -0500 (Tue, 04 Feb 2025) EndedAt: 2025-02-04 18:34:33 -0500 (Tue, 04 Feb 2025) EllapsedTime: 417.7 seconds RetCode: 0 Status: OK PackageFile: OncoSimulR_4.9.0.tar.gz PackageFileSize: 8.264 MiB