Package: OncoSimulR Version: 4.9.0 Command: /home/biocbuild/bbs-3.21-bioc/R/bin/R CMD check --install=check:OncoSimulR.install-out.txt --library=/home/biocbuild/bbs-3.21-bioc/R/site-library --timings OncoSimulR_4.9.0.tar.gz StartedAt: 2025-02-05 01:03:43 -0500 (Wed, 05 Feb 2025) EndedAt: 2025-02-05 01:09:53 -0500 (Wed, 05 Feb 2025) EllapsedTime: 369.6 seconds RetCode: 0 Status: OK CheckDir: OncoSimulR.Rcheck Warnings: 0