Package: OncoSimulR Version: 4.9.0 Command: chmod a+r OncoSimulR -R && E:\biocbuild\bbs-3.21-bioc\R\bin\R.exe CMD build --keep-empty-dirs --no-resave-data OncoSimulR StartedAt: 2025-02-03 20:39:23 -0500 (Mon, 03 Feb 2025) EndedAt: 2025-02-03 20:57:35 -0500 (Mon, 03 Feb 2025) EllapsedTime: 1091.9 seconds RetCode: 0 Status: OK PackageFile: OncoSimulR_4.9.0.tar.gz PackageFileSize: 4.006 MiB