Package: OncoSimulR Version: 4.9.0 Command: E:\biocbuild\bbs-3.21-bioc\R\bin\R.exe CMD INSTALL OncoSimulR StartedAt: 2025-02-09 15:56:38 -0500 (Sun, 09 Feb 2025) EndedAt: 2025-02-09 16:01:06 -0500 (Sun, 09 Feb 2025) EllapsedTime: 268.9 seconds RetCode: 0 Status: OK