Package: OpenStats Version: 1.19.1 Command: /Library/Frameworks/R.framework/Resources/bin/R CMD build --keep-empty-dirs --no-resave-data OpenStats StartedAt: 2025-02-09 17:10:00 -0500 (Sun, 09 Feb 2025) EndedAt: 2025-02-09 17:10:11 -0500 (Sun, 09 Feb 2025) EllapsedTime: 10.1 seconds RetCode: 0 Status: OK PackageFile: OpenStats_1.19.1.tar.gz PackageFileSize: 599.4 KiB