Package: OpenStats Version: 1.19.1 Command: rm -rf OpenStats.buildbin-libdir && mkdir OpenStats.buildbin-libdir && E:\biocbuild\bbs-3.21-bioc\R\bin\R.exe CMD INSTALL --build --library=OpenStats.buildbin-libdir OpenStats_1.19.1.tar.gz StartedAt: 2025-02-10 08:19:29 -0500 (Mon, 10 Feb 2025) EndedAt: 2025-02-10 08:20:26 -0500 (Mon, 10 Feb 2025) EllapsedTime: 56.1 seconds RetCode: 0 Status: OK PackageFile: OpenStats_1.19.1.zip PackageFileSize: 683.2 KiB