Package: OpenStats Version: 1.19.1 Command: chmod a+r OpenStats -R && E:\biocbuild\bbs-3.21-bioc\R\bin\R.exe CMD build --keep-empty-dirs --no-resave-data OpenStats StartedAt: 2025-02-09 20:27:21 -0500 (Sun, 09 Feb 2025) EndedAt: 2025-02-09 20:28:24 -0500 (Sun, 09 Feb 2025) EllapsedTime: 63.1 seconds RetCode: 0 Status: OK PackageFile: OpenStats_1.19.1.tar.gz PackageFileSize: 369.2 KiB