Package: OpenStats Version: 1.19.1 Command: E:\biocbuild\bbs-3.21-bioc\R\bin\R.exe CMD check --no-multiarch --install=check:OpenStats.install-out.txt --library=E:\biocbuild\bbs-3.21-bioc\R\library --no-vignettes --timings OpenStats_1.19.1.tar.gz StartedAt: 2025-02-10 03:46:54 -0500 (Mon, 10 Feb 2025) EndedAt: 2025-02-10 03:49:03 -0500 (Mon, 10 Feb 2025) EllapsedTime: 128.9 seconds RetCode: 0 Status: OK CheckDir: OpenStats.Rcheck Warnings: 0