Package: Organism.dplyr Version: 1.35.0 Command: rm -rf Organism.dplyr.buildbin-libdir && mkdir Organism.dplyr.buildbin-libdir && /Users/biocbuild/BBS/utils/build-universal.sh Organism.dplyr_1.35.0.tar.gz /Library/Frameworks/R.framework/Resources/bin/R Organism.dplyr.buildbin-libdir StartedAt: 2025-02-09 22:24:27 -0500 (Sun, 09 Feb 2025) EndedAt: 2025-02-09 22:24:44 -0500 (Sun, 09 Feb 2025) EllapsedTime: 16.3 seconds RetCode: 0 Status: OK PackageFile: Organism.dplyr_1.35.0.tgz PackageFileSize: 888.4 KiB