Package: Organism.dplyr Version: 1.35.0 Command: /Library/Frameworks/R.framework/Resources/bin/R CMD INSTALL Organism.dplyr StartedAt: 2025-02-09 15:09:17 -0500 (Sun, 09 Feb 2025) EndedAt: 2025-02-09 15:09:32 -0500 (Sun, 09 Feb 2025) EllapsedTime: 15.1 seconds RetCode: 0 Status: OK